BEGIN:VCALENDAR
VERSION:2.0
PRODID:-//Fire Station 101 - ECPv5.0.0.1//NONSGML v1.0//EN
CALSCALE:GREGORIAN
METHOD:PUBLISH
X-WR-CALNAME:Fire Station 101
X-ORIGINAL-URL:https://www.firestation101.com.au
X-WR-CALDESC:Events for Fire Station 101
BEGIN:VTIMEZONE
TZID:Europe/Paris
BEGIN:DAYLIGHT
TZOFFSETFROM:+0100
TZOFFSETTO:+0200
TZNAME:CEST
DTSTART:20180325T010000
END:DAYLIGHT
BEGIN:STANDARD
TZOFFSETFROM:+0200
TZOFFSETTO:+0100
TZNAME:CET
DTSTART:20181028T010000
END:STANDARD
END:VTIMEZONE
BEGIN:VEVENT
DTSTART;TZID=Europe/Paris:20180706T093000
DTEND;TZID=Europe/Paris:20180706T143000
DTSTAMP:20200302T052356
CREATED:20180604T071833Z
LAST-MODIFIED:20180604T071833Z
UID:3936-1530869400-1530887400@www.firestation101.com.au
SUMMARY:Teen Hackathon
DESCRIPTION: \nThe Teen Hackathon (13 – 17yrs) is a creative tech-based event to empower young minds to express their problem-solving skills to real-world challenges and have a positive impact on their local community. \n> Be loud – Share your thoughts and ideas.\n> Be inquisitive – Think outside the box\, challenge the norm.\n> Be active and energetic – Get excited\, move around and be creative \nCOST: $10 per teen (13 – 17yrs) includes catering and beverages for the week. \nWHEN: Monday 2 July 2018 – Friday 6 July 2018 \nTIME: 9.30 am – 2.30 pm \nWHERE: Fire Station 101\n101 Limestone Street\nIpswich Qld 4305 \nRSVP: 29 June 2018 \nGrab some of your friends\, come solo ready to mingle or speak to your school to pull together an awesome team! \nThis program is delivered by Ipswich & West Moreton – Advancing Regional Innovation Program (ARIP) in conjunction with TAFE Qld\, and Conetix – Premier Web Solution Provider. \nPlease RSVP by Monday 25 June to secure your place via Eventbrite.com \nRegister Here \n  \n \n
URL:https://www.firestation101.com.au/event/teen-hackathon-2018-07-06/
LOCATION:Fire Station 101\, 101 Limestone Street\, Ipswich\, Queensland\, 4305\, Australia
ATTACH;FMTTYPE=image/png:https://www.firestation101.com.au/wp-content/uploads/2018/06/Teen-Hack-Image.png
END:VEVENT
END:VCALENDAR