BEGIN:VCALENDAR
VERSION:2.0
PRODID:-//Fire Station 101 - ECPv5.0.0.1//NONSGML v1.0//EN
CALSCALE:GREGORIAN
METHOD:PUBLISH
X-WR-CALNAME:Fire Station 101
X-ORIGINAL-URL:https://www.firestation101.com.au
X-WR-CALDESC:Events for Fire Station 101
BEGIN:VTIMEZONE
TZID:Europe/Paris
BEGIN:DAYLIGHT
TZOFFSETFROM:+0100
TZOFFSETTO:+0200
TZNAME:CEST
DTSTART:20180325T010000
END:DAYLIGHT
BEGIN:STANDARD
TZOFFSETFROM:+0200
TZOFFSETTO:+0100
TZNAME:CET
DTSTART:20181028T010000
END:STANDARD
END:VTIMEZONE
BEGIN:VEVENT
DTSTART;TZID=Europe/Paris:20180710T180000
DTEND;TZID=Europe/Paris:20180710T200000
DTSTAMP:20200302T052256
CREATED:20180611T234056Z
LAST-MODIFIED:20180709T082207Z
UID:3978-1531245600-1531252800@www.firestation101.com.au
SUMMARY:Don't Produce\, Create!
DESCRIPTION:Don’t Produce\, Create!\nThese days\, people are under constant pressure to produce\, and not create\, and yet the greatest asset CEO’s value in their staff is creativity. Keeping pace with rapid change and disruption occurring around us requires a new way of thinking\, a creative way of thinking. To stay relevant and successful\, all business need to be creative. \nPlease join us at Fire Station 101 for Shane Mallory to share: \n– Why every business needs to focus on creativity.\n– The three things creatives do better than everyone else.\n– How creativity happens \nTake-Aways \n– A process that enables everyone to come up with more creative ideas.\n– Strategies every business and individual can employ to build a creative culture.\n– An understanding of how to implement creativity into your business and personal life. \nShane Mallory is a creative individual\, skilled in many areas of the arts. He has undertaken many roles which draw on his adaptive and creative thinking. He is a highly skilled communicator across areas of negotiation\, mediation and workshop facilitation. Shane has degrees in Education\, Training and postgraduate qualifications in Management\, and 25 years + of policing experience including operating as a qualified prosecutor\, investigator\, and lecturer. \nRegister to join us \n
URL:https://www.firestation101.com.au/event/dont-produce-create/
LOCATION:Fire Station 101\, 101 Limestone Street\, Ipswich\, Queensland\, 4305\, Australia
CATEGORIES:Startup business
ATTACH;FMTTYPE=image/png:https://www.firestation101.com.au/wp-content/uploads/2018/06/Dont-Produce-Create-Banner.png
END:VEVENT
END:VCALENDAR